BEGIN:VCALENDAR
VERSION:2.0
PRODID:-//Amarante Travel - ECPv6.15.18//NONSGML v1.0//EN
CALSCALE:GREGORIAN
METHOD:PUBLISH
X-WR-CALNAME:Amarante Travel
X-ORIGINAL-URL:https://amarantetravel.com
X-WR-CALDESC:Events for Amarante Travel
REFRESH-INTERVAL;VALUE=DURATION:PT1H
X-Robots-Tag:noindex
X-PUBLISHED-TTL:PT1H
BEGIN:VTIMEZONE
TZID:UTC
BEGIN:STANDARD
TZOFFSETFROM:+0000
TZOFFSETTO:+0000
TZNAME:UTC
DTSTART:20250101T000000
END:STANDARD
END:VTIMEZONE
BEGIN:VEVENT
DTSTART;TZID=UTC:20260410T000000
DTEND;TZID=UTC:20260410T000000
DTSTAMP:20260421T174652
CREATED:20260402T204921Z
LAST-MODIFIED:20260402T204921Z
UID:3058-1775779200-1775779200@amarantetravel.com
SUMMARY:Europe Summer Booking Deadline
DESCRIPTION:Final day to secure early planning for selected Europe summer departures and preferred hotel availability.
URL:https://amarantetravel.com/event/europe-summer-booking-deadline/
CATEGORIES:Deadlines
END:VEVENT
END:VCALENDAR