BEGIN:VCALENDAR
VERSION:2.0
PRODID:-//Amarante Travel - ECPv6.15.18//NONSGML v1.0//EN
CALSCALE:GREGORIAN
METHOD:PUBLISH
X-ORIGINAL-URL:https://amarantetravel.com
X-WR-CALDESC:Events for Amarante Travel
REFRESH-INTERVAL;VALUE=DURATION:PT1H
X-Robots-Tag:noindex
X-PUBLISHED-TTL:PT1H
BEGIN:VTIMEZONE
TZID:UTC
BEGIN:STANDARD
TZOFFSETFROM:+0000
TZOFFSETTO:+0000
TZNAME:UTC
DTSTART:20250101T000000
END:STANDARD
END:VTIMEZONE
BEGIN:VEVENT
DTSTART;TZID=UTC:20260418T100000
DTEND;TZID=UTC:20260422T170000
DTSTAMP:20260421T193431
CREATED:20260402T204922Z
LAST-MODIFIED:20260402T205006Z
UID:3061-1776506400-1776877200@amarantetravel.com
SUMMARY:Destination Weddings Planning Week
DESCRIPTION:A featured planning week focused on destination weddings\, guest coordination\, and venue inspiration.
URL:https://amarantetravel.com/event/destination-weddings-planning-week/
CATEGORIES:Destination Weddings,Featured Events
END:VEVENT
END:VCALENDAR