BEGIN:VCALENDAR
VERSION:2.0
PRODID:-//Amarante Travel - ECPv6.15.18//NONSGML v1.0//EN
CALSCALE:GREGORIAN
METHOD:PUBLISH
X-WR-CALNAME:Amarante Travel
X-ORIGINAL-URL:https://amarantetravel.com
X-WR-CALDESC:Events for Amarante Travel
REFRESH-INTERVAL;VALUE=DURATION:PT1H
X-Robots-Tag:noindex
X-PUBLISHED-TTL:PT1H
BEGIN:VTIMEZONE
TZID:UTC
BEGIN:STANDARD
TZOFFSETFROM:+0000
TZOFFSETTO:+0000
TZNAME:UTC
DTSTART:20250101T000000
END:STANDARD
END:VTIMEZONE
BEGIN:VEVENT
DTSTART;TZID=UTC:20260415T000000
DTEND;TZID=UTC:20260415T000000
DTSTAMP:20260421T180137
CREATED:20260402T204921Z
LAST-MODIFIED:20260402T204921Z
UID:3060-1776211200-1776211200@amarantetravel.com
SUMMARY:Passport Reminder for July Departures
DESCRIPTION:Reminder to confirm passport validity and required travel documents for upcoming July travel.
URL:https://amarantetravel.com/event/passport-reminder-for-july-departures/
CATEGORIES:Reminders,Travel Prep
END:VEVENT
END:VCALENDAR