BEGIN:VCALENDAR
VERSION:2.0
PRODID:-//Amarante Travel - ECPv6.15.18//NONSGML v1.0//EN
CALSCALE:GREGORIAN
METHOD:PUBLISH
X-WR-CALNAME:Amarante Travel
X-ORIGINAL-URL:https://amarantetravel.com
X-WR-CALDESC:Events for Amarante Travel
REFRESH-INTERVAL;VALUE=DURATION:PT1H
X-Robots-Tag:noindex
X-PUBLISHED-TTL:PT1H
BEGIN:VTIMEZONE
TZID:UTC
BEGIN:STANDARD
TZOFFSETFROM:+0000
TZOFFSETTO:+0000
TZNAME:UTC
DTSTART:20250101T000000
END:STANDARD
END:VTIMEZONE
BEGIN:VEVENT
DTSTART;TZID=UTC:20260509T180000
DTEND;TZID=UTC:20260509T190000
DTSTAMP:20260421T193251
CREATED:20260402T204923Z
LAST-MODIFIED:20260402T204952Z
UID:3065-1778349600-1778353200@amarantetravel.com
SUMMARY:Fall Europe Collection Reveal
DESCRIPTION:Preview our featured Europe itineraries for autumn travel\, including romantic city stays\, scenic rail journeys\, and boutique escapes.
URL:https://amarantetravel.com/event/fall-europe-collection-reveal/
CATEGORIES:Europe Travel,Launches
END:VEVENT
END:VCALENDAR