BEGIN:VCALENDAR
VERSION:2.0
PRODID:-//Amarante Travel - ECPv6.15.18//NONSGML v1.0//EN
CALSCALE:GREGORIAN
METHOD:PUBLISH
X-WR-CALNAME:Amarante Travel
X-ORIGINAL-URL:https://amarantetravel.com
X-WR-CALDESC:Events for Amarante Travel
REFRESH-INTERVAL;VALUE=DURATION:PT1H
X-Robots-Tag:noindex
X-PUBLISHED-TTL:PT1H
BEGIN:VTIMEZONE
TZID:UTC
BEGIN:STANDARD
TZOFFSETFROM:+0000
TZOFFSETTO:+0000
TZNAME:UTC
DTSTART:20250101T000000
END:STANDARD
END:VTIMEZONE
BEGIN:VEVENT
DTSTART;TZID=UTC:20260424T000000
DTEND;TZID=UTC:20260424T000000
DTSTAMP:20260421T160426
CREATED:20260402T204923Z
LAST-MODIFIED:20260402T204923Z
UID:3063-1776988800-1776988800@amarantetravel.com
SUMMARY:Holiday Travel Early Access Opens
DESCRIPTION:Get ahead of peak season demand with early access planning for holiday travel\, family getaways\, and festive escapes.
URL:https://amarantetravel.com/event/holiday-travel-early-access-opens/
CATEGORIES:Holiday Travel,Launches
END:VEVENT
END:VCALENDAR