BEGIN:VCALENDAR
VERSION:2.0
PRODID:-//Amarante Travel - ECPv6.15.18//NONSGML v1.0//EN
CALSCALE:GREGORIAN
METHOD:PUBLISH
X-WR-CALNAME:Amarante Travel
X-ORIGINAL-URL:https://amarantetravel.com
X-WR-CALDESC:Events for Amarante Travel
REFRESH-INTERVAL;VALUE=DURATION:PT1H
X-Robots-Tag:noindex
X-PUBLISHED-TTL:PT1H
BEGIN:VTIMEZONE
TZID:UTC
BEGIN:STANDARD
TZOFFSETFROM:+0000
TZOFFSETTO:+0000
TZNAME:UTC
DTSTART:20250101T000000
END:STANDARD
END:VTIMEZONE
BEGIN:VEVENT
DTSTART;TZID=UTC:20260408T190000
DTEND;TZID=UTC:20260408T200000
DTSTAMP:20260421T192453
CREATED:20260402T204921Z
LAST-MODIFIED:20260402T205023Z
UID:3057-1775674800-1775678400@amarantetravel.com
SUMMARY:Mediterranean Group Tour Info Session
DESCRIPTION:Join us for a short online information session covering itinerary highlights\, ideal travelers\, and planning timelines for our Mediterranean group tour.
URL:https://amarantetravel.com/event/mediterranean-group-tour-info-session/
CATEGORIES:Group Travel,Info Sessions
END:VEVENT
END:VCALENDAR